BEGIN:VCALENDAR
VERSION:2.0
PRODID:-//hacksw/handcal//NONSGML v1.0//EN
BEGIN:VEVENT
SUMMARY:Inter club Blangy sur Bresle
UID:5f228c94-7883-4bb8-b487-8c3c8bbe2df7
DTSTART:20260426T063000Z
DTEND:20260426T170000Z
LOCATION:Localisation Salle des sports Flechelle 76340 Blangy Sur Bresle
CATEGORIES:Sportif
STATUS:
URL;VALUE=URI:https://www.karate-arques.com/evenements/2026/04/26/inter-club-blangy-sur-bresle-2436499
END:VEVENT
END:VCALENDAR
