BEGIN:VCALENDAR
VERSION:2.0
PRODID:-//hacksw/handcal//NONSGML v1.0//EN
BEGIN:VEVENT
SUMMARY:Passage 1er et 2 eme Dan
UID:4f450ed7-6738-441c-8bde-fd892159a428
DTSTART:20260627T060000Z
DTEND:20260627T100000Z
LOCATION:Localisation Salle polyvalente Norbert Marechal Route du Paulu 76480 Saint pierre de Varengeville
CATEGORIES:Sportif
STATUS:
URL;VALUE=URI:https://www.karate-arques.com/evenements/2026/06/27/passage-1er-et-2-eme-dan-2440801
END:VEVENT
END:VCALENDAR
