BEGIN:VCALENDAR
VERSION:2.0
PRODID:-//hacksw/handcal//NONSGML v1.0//EN
BEGIN:VEVENT
SUMMARY:Passage 3eme et 4 eme Dan
UID:455f1407-edc1-436f-81f8-d54beb564cdc
DTSTART:20260628T060000Z
DTEND:20260628T100000Z
LOCATION:Localisation Salle polyvalente Norbert Marechal Route du Paulu 76480 Saint Pierre De varengeville
CATEGORIES:Sportif
STATUS:
URL;VALUE=URI:https://www.karate-arques.com/evenements/2026/06/28/passage-3eme-et-4-eme-dan-2440799
END:VEVENT
END:VCALENDAR
